View In:
ArcGIS JavaScript
ArcGIS Online Map Viewer
ArcGIS Earth
ArcMap
ArcGIS Pro
View Footprint In:
ArcGIS Online Map Viewer
Service Description:
Map Name: Arch Potential
Legend
All Layers and Tables
Layers:
Description:
Service Item Id: 1f72bcb1d19d4ab58823981bb28d8bed
Copyright Text:
Spatial Reference:
3153
(3153)
Single Fused Map Cache: true
Tile Info:
- Height: 256
- Width: 256
- DPI: 96
-
Levels of Detail: 24
-
Level ID: 0
[ Start Tile, End Tile ]
- Resolution: 111243.66005791773
- Scale: 4.204484789590591E8
-
Level ID: 1
[ Start Tile, End Tile ]
- Resolution: 55621.830028958866
- Scale: 2.1022423947952956E8
-
Level ID: 2
[ Start Tile, End Tile ]
- Resolution: 27810.915014479433
- Scale: 1.0511211973976478E8
-
Level ID: 3
[ Start Tile, End Tile ]
- Resolution: 13905.457507239717
- Scale: 5.255605986988239E7
-
Level ID: 4
[ Start Tile, End Tile ]
- Resolution: 6952.728753619858
- Scale: 2.6278029934941195E7
-
Level ID: 5
[ Start Tile, End Tile ]
- Resolution: 3476.364376809929
- Scale: 1.3139014967470597E7
-
Level ID: 6
[ Start Tile, End Tile ]
- Resolution: 1738.1821884049646
- Scale: 6569507.483735299
-
Level ID: 7
[ Start Tile, End Tile ]
- Resolution: 869.0910942024823
- Scale: 3284753.7418676494
-
Level ID: 8
[ Start Tile, End Tile ]
- Resolution: 434.54554710124114
- Scale: 1642376.8709338247
-
Level ID: 9
[ Start Tile, End Tile ]
- Resolution: 217.27277355062057
- Scale: 821188.4354669123
-
Level ID: 10
[ Start Tile, End Tile ]
- Resolution: 108.63638677531029
- Scale: 410594.2177334562
-
Level ID: 11
[ Start Tile, End Tile ]
- Resolution: 54.31819338765514
- Scale: 205297.1088667281
-
Level ID: 12
[ Start Tile, End Tile ]
- Resolution: 27.15909669382757
- Scale: 102648.55443336404
-
Level ID: 13
[ Start Tile, End Tile ]
- Resolution: 13.579548346913786
- Scale: 51324.27721668202
-
Level ID: 14
[ Start Tile, End Tile ]
- Resolution: 6.789774173456893
- Scale: 25662.13860834101
-
Level ID: 15
[ Start Tile, End Tile ]
- Resolution: 3.3948870867284464
- Scale: 12831.069304170505
-
Level ID: 16
[ Start Tile, End Tile ]
- Resolution: 1.6974435433642232
- Scale: 6415.534652085253
-
Level ID: 17
[ Start Tile, End Tile ]
- Resolution: 0.8487217716821116
- Scale: 3207.7673260426263
-
Level ID: 18
[ Start Tile, End Tile ]
- Resolution: 0.4243608858410558
- Scale: 1603.8836630213132
-
Level ID: 19
[ Start Tile, End Tile ]
- Resolution: 0.2121804429205279
- Scale: 801.9418315106566
-
Level ID: 20
[ Start Tile, End Tile ]
- Resolution: 0.10609022146026395
- Scale: 400.9709157553283
-
Level ID: 21
[ Start Tile, End Tile ]
- Resolution: 0.053045110730131975
- Scale: 200.48545787766415
-
Level ID: 22
[ Start Tile, End Tile ]
- Resolution: 0.026522555365065988
- Scale: 100.24272893883207
-
Level ID: 23
[ Start Tile, End Tile ]
- Resolution: 0.013261277682532994
- Scale: 50.12136446941604
- Format: PNG
- Compression Quality: 0.0
- Origin: X: -1.323918848741347E7
Y: 1.8629219301620483E7
- Spatial Reference: 3153
(3153)
Storage Info:
- Storage Format: esriMapCacheStorageModeCompactV2
- Packet Size: 128
Initial Extent:
XMin: 1282690.7589820235
YMin: 1113336.556897244
XMax: 1358376.205477861
YMax: 1158906.923330924
Spatial Reference: 3153
(3153)
Full Extent:
XMin: 1306926.0718384415
YMin: 1115421.023134116
XMax: 1334140.892621443
YMax: 1156822.4570940519
Spatial Reference: 3153
(3153)
Units: esriMeters
Supported Image Format Types: PNG32,PNG24,PNG,JPG,DIB,TIFF,EMF,PS,PDF,GIF,SVG,SVGZ,BMP
Document Info:
Title: Arch Potential
Author:
Comments:
Subject:
Category:
Keywords:
AntialiasingMode: None
TextAntialiasingMode: Force
Supports Dynamic Layers: false
MaxRecordCount: 1000
MaxImageHeight: 4096
MaxImageWidth: 4096
Supported Query Formats: JSON, geoJSON, PBF
Supports Query Data Elements: true
Min Scale: 821188.4354669123
Max Scale: 50.12136446941604
Supports Datum Transformation: true
Child Resources:
Info
Supported Operations:
QueryLegends
Return Updates