{
 "cimVersion": "3.4.0",
 "serviceDescription": "",
 "mapName": "Arch Potential",
 "description": "",
 "copyrightText": "",
 "supportsDynamicLayers": false,
 "layers": [
  {
   "id": 34,
   "name": "Tumbler 1m",
   "parentLayerId": -1,
   "defaultVisibility": true,
   "subLayerIds": null,
   "minScale": 0,
   "maxScale": 0,
   "type": "Feature Layer",
   "geometryType": "esriGeometryPolyline",
   "supportsDynamicLegends": true
  }
 ],
 "tables": [],
 "spatialReference": {
  "wkid": 3153,
  "latestWkid": 3153,
  "xyTolerance": 0.001,
  "zTolerance": 0.001,
  "mTolerance": 0.001,
  "falseX": -13239300,
  "falseY": -8610100,
  "xyUnits": 10000,
  "falseZ": -100000,
  "zUnits": 10000,
  "falseM": -100000,
  "mUnits": 10000
 },
 "singleFusedMapCache": true,
 "tileInfo": {
  "rows": 256,
  "cols": 256,
  "dpi": 96,
  "format": "PNG",
  "compressionQuality": 0,
  "origin": {
   "x": -1.323918848741347E7,
   "y": 1.8629219301620483E7
  },
  "spatialReference": {
   "wkid": 3153,
   "latestWkid": 3153,
   "xyTolerance": 0.001,
   "zTolerance": 0.001,
   "mTolerance": 0.001,
   "falseX": -13239300,
   "falseY": -8610100,
   "xyUnits": 10000,
   "falseZ": -100000,
   "zUnits": 10000,
   "falseM": -100000,
   "mUnits": 10000
  },
  "lods": [
   {
    "level": 0,
    "resolution": 111243.66005791773,
    "scale": 4.204484789590591E8
   },
   {
    "level": 1,
    "resolution": 55621.830028958866,
    "scale": 2.1022423947952956E8
   },
   {
    "level": 2,
    "resolution": 27810.915014479433,
    "scale": 1.0511211973976478E8
   },
   {
    "level": 3,
    "resolution": 13905.457507239717,
    "scale": 5.255605986988239E7
   },
   {
    "level": 4,
    "resolution": 6952.728753619858,
    "scale": 2.6278029934941195E7
   },
   {
    "level": 5,
    "resolution": 3476.364376809929,
    "scale": 1.3139014967470597E7
   },
   {
    "level": 6,
    "resolution": 1738.1821884049646,
    "scale": 6569507.483735299
   },
   {
    "level": 7,
    "resolution": 869.0910942024823,
    "scale": 3284753.7418676494
   },
   {
    "level": 8,
    "resolution": 434.54554710124114,
    "scale": 1642376.8709338247
   },
   {
    "level": 9,
    "resolution": 217.27277355062057,
    "scale": 821188.4354669123
   },
   {
    "level": 10,
    "resolution": 108.63638677531029,
    "scale": 410594.2177334562
   },
   {
    "level": 11,
    "resolution": 54.31819338765514,
    "scale": 205297.1088667281
   },
   {
    "level": 12,
    "resolution": 27.15909669382757,
    "scale": 102648.55443336404
   },
   {
    "level": 13,
    "resolution": 13.579548346913786,
    "scale": 51324.27721668202
   },
   {
    "level": 14,
    "resolution": 6.789774173456893,
    "scale": 25662.13860834101
   },
   {
    "level": 15,
    "resolution": 3.3948870867284464,
    "scale": 12831.069304170505
   },
   {
    "level": 16,
    "resolution": 1.6974435433642232,
    "scale": 6415.534652085253
   },
   {
    "level": 17,
    "resolution": 0.8487217716821116,
    "scale": 3207.7673260426263
   },
   {
    "level": 18,
    "resolution": 0.4243608858410558,
    "scale": 1603.8836630213132
   },
   {
    "level": 19,
    "resolution": 0.2121804429205279,
    "scale": 801.9418315106566
   },
   {
    "level": 20,
    "resolution": 0.10609022146026395,
    "scale": 400.9709157553283
   },
   {
    "level": 21,
    "resolution": 0.053045110730131975,
    "scale": 200.48545787766415
   },
   {
    "level": 22,
    "resolution": 0.026522555365065988,
    "scale": 100.24272893883207
   },
   {
    "level": 23,
    "resolution": 0.013261277682532994,
    "scale": 50.12136446941604
   }
  ]
 },
 "storageInfo": {
  "storageFormat": "esriMapCacheStorageModeCompactV2",
  "packetSize": 128
 },
 "initialExtent": {
  "xmin": 1282690.7589820235,
  "ymin": 1113336.556897244,
  "xmax": 1358376.205477861,
  "ymax": 1158906.923330924,
  "spatialReference": {
   "wkid": 3153,
   "latestWkid": 3153,
   "xyTolerance": 0.001,
   "zTolerance": 0.001,
   "mTolerance": 0.001,
   "falseX": -13239300,
   "falseY": -8610100,
   "xyUnits": 10000,
   "falseZ": -100000,
   "zUnits": 10000,
   "falseM": -100000,
   "mUnits": 10000
  }
 },
 "fullExtent": {
  "xmin": 1306926.0718384415,
  "ymin": 1115421.023134116,
  "xmax": 1334140.892621443,
  "ymax": 1156822.4570940519,
  "spatialReference": {
   "wkid": 3153,
   "latestWkid": 3153,
   "xyTolerance": 0.001,
   "zTolerance": 0.001,
   "mTolerance": 0.001,
   "falseX": -13239300,
   "falseY": -8610100,
   "xyUnits": 10000,
   "falseZ": -100000,
   "zUnits": 10000,
   "falseM": -100000,
   "mUnits": 10000
  }
 },
 "datesInUnknownTimezone": false,
 "units": "esriMeters",
 "supportedImageFormatTypes": "PNG32,PNG24,PNG,JPG,DIB,TIFF,EMF,PS,PDF,GIF,SVG,SVGZ,BMP",
 "documentInfo": {
  "Title": "Arch Potential",
  "Author": "",
  "Comments": "",
  "Subject": "",
  "Category": "",
  "Version": "2.9.0",
  "AntialiasingMode": "None",
  "TextAntialiasingMode": "Force",
  "Keywords": ""
 },
 "supportsQueryDomains": true,
 "supportedQueryFormats": "JSON, geoJSON, PBF",
 "referenceScale": 0.0,
 "datumTransformations": [
  {
   "geoTransforms": [
    {
     "wkid": 108001,
     "latestWkid": 1241,
     "transformForward": true,
     "name": "NAD_1927_To_NAD_1983_NADCON"
    }
   ]
  },
  {
   "geoTransforms": [
    {
     "wkid": 108001,
     "latestWkid": 1241,
     "transformForward": false,
     "name": "NAD_1927_To_NAD_1983_NADCON"
    }
   ]
  },
  {
   "geoTransforms": [
    {
     "wkid": 1946,
     "latestWkid": 1946,
     "transformForward": true,
     "name": "NAD_1983_CSRS_To_WGS_1984_2"
    },
    {
     "wkid": 108190,
     "latestWkid": 108190,
     "transformForward": true,
     "name": "WGS_1984_(ITRF00)_To_NAD_1983"
    }
   ]
  },
  {
   "geoTransforms": [
    {
     "wkid": 108190,
     "latestWkid": 108190,
     "transformForward": false,
     "name": "WGS_1984_(ITRF00)_To_NAD_1983"
    },
    {
     "wkid": 1946,
     "latestWkid": 1946,
     "transformForward": false,
     "name": "NAD_1983_CSRS_To_WGS_1984_2"
    }
   ]
  },
  {
   "geoTransforms": [
    {
     "wkid": 1946,
     "latestWkid": 1946,
     "transformForward": false,
     "name": "NAD_1983_CSRS_To_WGS_1984_2"
    }
   ]
  },
  {
   "geoTransforms": [
    {
     "wkid": 1946,
     "latestWkid": 1946,
     "transformForward": true,
     "name": "NAD_1983_CSRS_To_WGS_1984_2"
    }
   ]
  }
 ],
 "supportsDatumTransformation": true,
 "floorAwareMapProperties": {
  "defaultFloorFilterSettings": {
   "isEnabled": false
  }
 },
 "archivingInfo": {
  "supportsHistoricMoment": false
 },
 "supportsClipping": true,
 "supportsSpatialFilter": true,
 "supportsTimeRelation": true,
 "supportsQueryDataElements": true,
 "mapUnits": {
  "uwkid": 9001
 },
 "maxSelectionCount": 2000,
 "maxRecordCount": 1000,
 "maxImageHeight": 4096,
 "maxImageWidth": 4096,
 "currentVersion": 12.9,
 "capabilities": "TilesOnly,Tilemap",
 "minScale": 821188.4354669123,
 "maxScale": 50.12136446941604,
 "exportTilesAllowed": false,
 "maxExportTilesCount": 100000,
 "supportedExtensions": "",
 "serviceItemId": "1f72bcb1d19d4ab58823981bb28d8bed"
}
